BEGIN:VCALENDAR
VERSION:2.0
PRODID:-//AKB - Bremen //NONSGML Events //EN
CALSCALE:GREGORIAN
X-WR-CALNAME:AKB - Bremen
BEGIN:VEVENT
CREATED:20240826T101748Z
UID:2438
DTEND;VALUE=DATE:20241124T180000
DTSTART;VALUE=DATE:20241123T110000
DTSTAMP:20260424T093847Z
LOCATION:
DESCRIPTION:
SUMMARY:KunsthandwerkerMarkt Worpsweder Rathaus
ORGANIZER:AKB - Bremen
URL;VALUE=URI:https://akbbremen.de/termin/kunsthandwerkermarkt-worpsweder-rathaus/
TRANSP:OPAQUE
BEGIN:VALARM
ACTION:DISPLAY
TRIGGER;VALUE=DATE-TIME:
DESCRIPTION:Reminder for KunsthandwerkerMarkt Worpsweder Rathaus
END:VALARM
END:VEVENT
END:VCALENDAR
