BEGIN:VCALENDAR
VERSION:2.0
PRODID:-//AKB - Bremen //NONSGML Events //EN
CALSCALE:GREGORIAN
X-WR-CALNAME:AKB - Bremen
BEGIN:VEVENT
CREATED:20240214T124637Z
UID:2051
DTEND;VALUE=DATE:20260510T180000
DTSTART;VALUE=DATE:20250509T110000
DTSTAMP:20260424T122343Z
LOCATION:
DESCRIPTION:<p>Über 40 Ateliers und Werkstätten in der Bremer Neustadt öffnen an diesem Wochenende ihre Türen.</p>
<p>Mit dabei von der AKB sind:<br />
Bernd Fischer – Keramik<br />
Danni Schwaag – Schmuck<br />
Gunda Schürmann – Schmuck<br />
Katja Stelljes – Seinbildhauerei<br />
Martin Wilmes – Möbeltischler</p>
<p><a href="https://www.offene-ateliers-bremen-neustadt.de">mehr Informationen</a></p>
SUMMARY:offene ateliers bremen neustadt
ORGANIZER:AKB - Bremen
URL;VALUE=URI:https://akbbremen.de/termin/offene-ateliers-bremen-neustadt/
TRANSP:OPAQUE
BEGIN:VALARM
ACTION:DISPLAY
TRIGGER;VALUE=DATE-TIME:
DESCRIPTION:Reminder for offene ateliers bremen neustadt
END:VALARM
END:VEVENT
END:VCALENDAR
